BEGIN:VCALENDAR
VERSION:2.0
PRODID:-//ISOCS - ECPv6.15.17.1//NONSGML v1.0//EN
CALSCALE:GREGORIAN
METHOD:PUBLISH
X-ORIGINAL-URL:https://www.olfactionsociety.org
X-WR-CALDESC:Events for ISOCS
REFRESH-INTERVAL;VALUE=DURATION:PT1H
X-Robots-Tag:noindex
X-PUBLISHED-TTL:PT1H
BEGIN:VTIMEZONE
TZID:Europe/Paris
BEGIN:DAYLIGHT
TZOFFSETFROM:+0100
TZOFFSETTO:+0200
TZNAME:CEST
DTSTART:20080330T010000
END:DAYLIGHT
BEGIN:STANDARD
TZOFFSETFROM:+0200
TZOFFSETTO:+0100
TZNAME:CET
DTSTART:20081026T010000
END:STANDARD
BEGIN:DAYLIGHT
TZOFFSETFROM:+0100
TZOFFSETTO:+0200
TZNAME:CEST
DTSTART:20090329T010000
END:DAYLIGHT
BEGIN:STANDARD
TZOFFSETFROM:+0200
TZOFFSETTO:+0100
TZNAME:CET
DTSTART:20091025T010000
END:STANDARD
BEGIN:DAYLIGHT
TZOFFSETFROM:+0100
TZOFFSETTO:+0200
TZNAME:CEST
DTSTART:20100328T010000
END:DAYLIGHT
BEGIN:STANDARD
TZOFFSETFROM:+0200
TZOFFSETTO:+0100
TZNAME:CET
DTSTART:20101031T010000
END:STANDARD
BEGIN:DAYLIGHT
TZOFFSETFROM:+0100
TZOFFSETTO:+0200
TZNAME:CEST
DTSTART:20110327T010000
END:DAYLIGHT
BEGIN:STANDARD
TZOFFSETFROM:+0200
TZOFFSETTO:+0100
TZNAME:CET
DTSTART:20111030T010000
END:STANDARD
END:VTIMEZONE
BEGIN:VEVENT
DTSTART;TZID=Europe/Paris:20100630T000000
DTEND;TZID=Europe/Paris:20100702T235900
DTSTAMP:20260423T165944
CREATED:20211006T081615Z
LAST-MODIFIED:20211006T081615Z
UID:2904-1277856000-1278115140@www.olfactionsociety.org
SUMMARY:International Workshop on Dynamical Olfaction\, 30 June - 2 July\, 2010\, Brighton\, UK
DESCRIPTION:First call for Abstracts\, International Workshop on Dynamical Olfaction\, 30 June – 2 July\, 2010\, Brighton\, UK \n\n\n\nAnimals are able to experience complexly structured plumes of different combinations of chemicals as individual olfactory percepts. It appears that the olfactory system utilizes rich temporal dynamics to achieve this goal but exactly how is still an open challenge for modern neuroscience. In the last few years rapid progress has been made in our understanding of olfactory information processing. In this focused workshop on Dynamical Olfaction we will share recent developments\, both experimental and theoretical\, between the active researchers in the field.  \n\n\n\nConfirmed keynote speakers include: \n\n\n\nMaxim Bazhenov\, University of California Riverside\, USAC. Giovanni Galizia\, University of Konstanz\, GermanyHong Lei\, The University of Arizona\, USAJohannes Reisert\, Monell Chemical Senses Center\, USAMark Stopfer\, National Institutes of Health\, USAMassimo Vergassola\, Institut Pasteur\, Paris\, France\n\n\n\nThe programme committee is formed by \n\n\n\nJean-Pierre Rospars\, INRA VersaillesDominique Martiney\, LORIA Nancy & INRA VersaillesThomas Nowotny\, University of SussexSylvia Anton\, INRA Versailles\n\n\n\nThe workshop is financed by the BBSRC in the framework of the PheroSys project\, part of the ANR-BBSRC SysBio initiative. Registration IS FREE OF CHARGE but mandatory for our planning. \n\n\n\nImportant Dates: \n\n\n\nFirst call for abstracts (this call)February 12\, 2010Registration opensMarch 15\, 2010Deadline for abstract submissionsApril 15\, 2010Abstract acceptance notificationsApril 30\, 2010The workshop startsJune 30\, 2010\n\n\n\nParticipation is limited to 100 participants. Contributors will have preferential treatment over other participants. \n\n\n\nTo submit an abstract\, direct your browser tohttp://www.informatics.sussex.ac.uk/cgi-bin/users/tn41/signupPhero2010/abstract \n\n\n\nFurther information is available and will be updated regularly on the workshop websitehttp://www.informatics.sussex.ac.uk/users/tn41/PheroSys2010/index.html \n\n\n\nIf you have additional questions\, please contact the local organiser\, Chris Buckley at C.L.Buckley@sussex.ac.uk .
URL:https://www.olfactionsociety.org/event/international-workshop-on-dynamical-olfaction-30-june-2-july-2010-brighton-uk/
CATEGORIES:Workshops
END:VEVENT
BEGIN:VEVENT
DTSTART;TZID=Europe/Paris:20100601T230000
DTEND;TZID=Europe/Paris:20100602T230000
DTSTAMP:20260423T165944
CREATED:20211006T082245Z
LAST-MODIFIED:20211006T082245Z
UID:2908-1275433200-1275519600@www.olfactionsociety.org
SUMMARY:IMTeC 2010; First European Conference on Micro-Analysis
DESCRIPTION:The exhibition Forum LABO & BIOTECH hosts this year \n\n\n\nthe first European Congress on Micro-Technologies: IMTeC.\n\n\n\nForum LABO & BIOTECH will take place from 1 to June 4\, 2010 in Paris. IMTeC: 2nd and 3rd June. \n\n\n\nFor the 2010’ edition\, the Interprofessional Committee of Laboratory Suppliers – /Comité Interprofessionnel des Fournisseurs du Laboratoir/\, CIFL\, the owner of this event\, has decided to expand the supply of goods and services sector to the process sector in order to meet the changing demand within the profession\, always seeking new ways and solutions to gain speed and productivity. \n\n\n\nThis opening allows at Forum LABO & BIOTECH cover all applications\, from RESEARCH to ONLINE ANALYSIS via the CONTROL\, to attract discerning visitors\, both public and private sector and industry. \n\n\n\nForum LABO & BIOTECH present in this complete offer:\n\n\n\n8000 sqm *exhibitionnearly *300 exhibitors*\,4 exhibition areas: the physico-chemical\, biotechnology\, Process Analytics\, and sustainable development. and nearly 10\,000 visitors (9\,800 in 2008). The file is given to visitors after the show\, IMTEC Congress: First European Conference on Micro-analysis expert forums\, moderated by renowned experts. 2010’ themes on sustainable development (topics selected by a panel of visitors of the latest edition 2008)\, and a communications plan important in leading journals.\n\n\n\nAbout IMTeC 2010:\n\n\n\nProcess Analytical Technology (PAT) has provided value to the chemical and pharmaceutical industries for years in improving productivity and quality by gathering data to develop and monitor processes. PAT has been the enabling tool to implement Quality by Design (QbD) as a way to achieve Process Understanding. Recent advances in analytical and sampling technology have continued to improve measurement capabilities. \n\n\n\nNew technology for micro-machining\, along with new material development\, has allowed for advances in the miniaturization of instrumentation and sampling systems. A good example of this is in the development of the New Sensor and Sampling System (NeSSI)\, growing out of the forum created by the Center for Process Analytical Chemistry (CPAC) in the USA. This has enabled developments in operational devices such as micro-reaction equipment for process optimization and new micro-analytical tools for characterizing process samples. \n\n\n\nIMTeC will be a venue to describe to European companies the use of NeSSI and related analytical devices as valuable tools to consider in achieving the ultimate goal of Process Understanding\, the key to achieving improved productivity and quality in products via effective implementation of process control. \n\n\n\nIMTeC will cover:\n\n\n\nMicro Technology and the LaboratoryAnalyzer sampling system\, components\, and diagnosticNeSSI componentsProcess Automation Technology\n\n\n\n \n\n\n\n\nDownload the program
URL:https://www.olfactionsociety.org/event/imtec-2010-first-european-conference-on-micro-analysis/
CATEGORIES:Conferences
END:VEVENT
BEGIN:VEVENT
DTSTART;TZID=Europe/Paris:20100517T230000
DTEND;TZID=Europe/Paris:20100519T230000
DTSTAMP:20260423T165944
CREATED:20211006T093210Z
LAST-MODIFIED:20211006T093210Z
UID:2924-1274137200-1274310000@www.olfactionsociety.org
SUMMARY:Sensor + Test 2010
DESCRIPTION:The Sensor + Test 2010 is a trade show and conference covering the entire spectrum of measuring and testing system expertise. \n\n\n\nFree admission passes are available via the website of JLM Innovation: http:www.jlm-innovation.de
URL:https://www.olfactionsociety.org/event/sensor-test-2010/
CATEGORIES:Trade Show
END:VEVENT
BEGIN:VEVENT
DTSTART;TZID=Europe/Paris:20100510T140000
DTEND;TZID=Europe/Paris:20100514T130000
DTSTAMP:20260423T165944
CREATED:20211006T093856Z
LAST-MODIFIED:20211006T093856Z
UID:2926-1273500000-1273842000@www.olfactionsociety.org
SUMMARY:ISOCS / S3 Spring School 2010
DESCRIPTION:MOX Semiconductors Gas Sensor Technology – From basics to application\n\n\n\nJoint School of ISOCS and the S3 research project\n\n\n\n10-14 May 2010 – Rimini\, Italy\n\n\n\n\n\n\n\nRegistration is closed!\n\n\n\nThe venue is the Hotel Sporting in Rimini. \n\n\n\n\nDownload the flyer\n\n\n\nDownload the draft timetable\n\n\n\n\n \n\n\n\nThe S3 Spring School 2010 will cover topics including:\n\n\n\nChemical Sensing Mechanisms (Modelling)Synthesis of Materials and DepositionElectrical Characterization (Operation)Spectroscopic Investigation (Understanding)Driving Electronics and System AspectsApplication Issues\n\n\n\nSpeakers:\n\n\n\nProf. Elisabetta Comini\, CNR-IDASC SENSOR Lab\, ItalyProf. Guido Faglia\, CNR-IDASC SENSOR Lab\, ItalyProf. Udo Weimar\, University of Tübingen\, GermanyProf. Sanjay Mathur\, University of Cologne\, GermanyDr. Gerhard Müller\, EADS\, GermanyProf. J. R. Morante\, IREC & University of Barcelona\, SpainProf. Alexander Gaskov\, Moscow State University\, RussiaDr. Marina Rumyantseva\, Moscow State University\, RussiaProf. Alexey Vasiliev\, Kurchatov Institute\, Russia\n\n\n\nWho should attend?\n\n\n\nThe S3 School will mediate knowledge over the entire spectrum of the semiconductor gas sensor technology. This activity particularly addresses younger researchers and doctoral students and aims at ensuring comparable levels of technological and scientific skills.
URL:https://www.olfactionsociety.org/event/isocs-s3-spring-school-2010/
CATEGORIES:Schools
ATTACH;FMTTYPE=:
END:VEVENT
BEGIN:VEVENT
DTSTART;TZID=Europe/Paris:20100325T000000
DTEND;TZID=Europe/Paris:20100330T235900
DTSTAMP:20260423T165944
CREATED:20211006T095245Z
LAST-MODIFIED:20211006T095245Z
UID:2934-1269475200-1269993540@www.olfactionsociety.org
SUMMARY:ISOCS Winter School 2010
DESCRIPTION:Smart Circuits\, Systems and Micro-technologies for Chemical and Biological Sensing\n\n\n\n25-30 March 2010 – Selva di Val Gardena\, Italy\n\n\n\nThe ISOCS Winter School will be held in Selva di Val Gardena\, in the middle of the well known skiing area Dolomiti Superski in Italy. \n\n\n\n\n\n\n\nThe school will take place at Hotel Oswald: http://www.hoteloswald.it/eng/index.html \n\n\n\n\nDownload the flyer\n\n\n\nDownload the program\n\n\n\n\n \n\n\n\nThe Winter School 2010 will covered topics including:\n\n\n\nMicroelectronics and Sensing TechnologiesSmart Chemical Sensor SystemsBiosensors and BiomimeticsData Handling and Sensor NetworksFuture trends and Commercial Opportunities\n\n\n\nSpeakers:\n\n\n\nProf. Florin Udrea\, University of Cambridge\, UKDr. Marina Cole\, University of Warwick\, UKProf. Krishna Presaud\, University of Manchester\, UKProf. Julian Gardner\, University of Warwick\, UKDr. Jan Mitrovics\, JLM Innovation\, Germany\n\n\n\n\n\n\n\nPresentations: (you need to have a login and be an ISOCS member to download these files!)\n\n\n\nDownload the files: ISOCS Winter School 2010 Materials \n\n\n\nYou need to have a login and be an ISOCS member to download the previous files. Not a member yet? \n\n\n\n\nSignup for membership\n\n\n\n\n\n\n\n\nImage Gallery: Winter School 2010 | ISOCS (olfactionsociety.org)
URL:https://www.olfactionsociety.org/event/isocs-winter-school-2010/
CATEGORIES:Schools
ATTACH;FMTTYPE=:
END:VEVENT
BEGIN:VEVENT
DTSTART;TZID=Europe/Paris:20100310T000000
DTEND;TZID=Europe/Paris:20100311T235900
DTSTAMP:20260423T165944
CREATED:20211006T100158Z
LAST-MODIFIED:20211006T100158Z
UID:2943-1268179200-1268351940@www.olfactionsociety.org
SUMMARY:EC Workshop on Infochemical Communication Technology
DESCRIPTION:This workshop brings together researchers interested in the fields of molecular interaction & chemical communication at different levels of organisation in both biological and technological systems\, i.e the development of new infochemical communication technologies. \n\n\n\nWe will consider the infochemical communication problem in two stages\, within both biological and technological domains – generating precisely controlled infochemical signals and the complementary detection problem of recovering chemical information in a receiver. Animal models\, particularly from the insect kingdom\, are ideal for this purpose since known pheromones mediate behaviours that are often robustly reproducible\, many of the biosynthesis steps are understood\, the molecular biology of the complementary receptors have been characterised and the neuroscience of pheromone processing in insects has been widely studied. \n\n\n\nA key aim of the workshop is therefore to identify potential routes from our knowledge of biological chemical communication through to technological implementation. \n\n\n\nRegister now! Limited places available only! \n\n\n\nFor a full programme and conditions visit http://www2.warwick.ac.uk/fac/sci/eng/eed/research/ichem/ \n\n\n\n\nDownload the flyer
URL:https://www.olfactionsociety.org/event/ec-workshop-on-infochemical-communication-technology/
CATEGORIES:Workshops
END:VEVENT
BEGIN:VEVENT
DTSTART;TZID=Europe/Paris:20090928T000000
DTEND;TZID=Europe/Paris:20091002T235900
DTSTAMP:20260423T165944
CREATED:20211006T101113Z
LAST-MODIFIED:20211006T101113Z
UID:2948-1254096000-1254527940@www.olfactionsociety.org
SUMMARY:ISOCS Summer School 2009
DESCRIPTION:The first ISOCS Summer School was held in Barcelona from 28th September to 2nd October 2009. \n\n\n\nSchool Organizer: Prof. Santiago Marco. \n\n\n\nDownloads: \n\n\n\n\nFlyer\n\n\n\nProgram\n\n\n\nVenue\n\n\n\n\n\n\n\n\nPresentations: (you need to have a login and be an ISOCS member to download these files!)\n\n\n\nDownload the presentations: ISOCS Summer School 2009 Materials \n\n\n\nNot a member yet? Join us! \n\n\n\n\nAcquire a Membership
URL:https://www.olfactionsociety.org/event/isocs-summer-school-2009/
CATEGORIES:Schools
END:VEVENT
BEGIN:VEVENT
DTSTART;TZID=Europe/Paris:20090201T000000
DTEND;TZID=Europe/Paris:20090206T235900
DTSTAMP:20260423T165944
CREATED:20211006T101641Z
LAST-MODIFIED:20211006T101641Z
UID:2953-1233446400-1233964740@www.olfactionsociety.org
SUMMARY:ISOCS Winter School 2009
DESCRIPTION:Multivariate Data Analysis for Chemical Sensing\n\n\n\n1-6 February 2009 – Alpbach\, Austria\n\n\n\nThe ISOCS Winter School 2009 was held in the beautiful village Alpbach in Austria. \n\n\n\n\n\n\n\n\nDownload the program\n\n\n\n\n \n\n\n\nThe Winter School 2009 covered topics including:\n\n\n\nIntroduction to chemical sensors and data handlingExploratory data analyis and linear multivariate techniquesNon-linear multivariate analysisTime series analysis of data from chemical sensorsHandling of large datasetsBio-inspired signal processing\n\n\n\nSpeakers:\n\n\n\nDr. Udo Weimar\, University of Tübingen\, GermanyProf. Agustin Gutiérrez-Gálvez\, University of Barcelona\, SpainProf. Krishna Presaud\, University of Manchester\, UKProf. Julian Gardner\, University of Warwick\, UKDr. Jan Mitrovics\, JLM Innovation\, Germany\n\n\n\n\n\n\n\n\nDownload the full book of presentations\n\n\n\n\n \n\n\n\nYou need a membership to download the full book of presentations. Not a member yet? \n\n\n\n\nSignup for membership
URL:https://www.olfactionsociety.org/event/isocs-winter-school-2009/
CATEGORIES:Schools
ATTACH;FMTTYPE=:
END:VEVENT
END:VCALENDAR