BEGIN:VCALENDAR
VERSION:2.0
PRODID:-//ISOCS - ECPv6.15.17.1//NONSGML v1.0//EN
CALSCALE:GREGORIAN
METHOD:PUBLISH
X-WR-CALNAME:ISOCS
X-ORIGINAL-URL:https://www.olfactionsociety.org
X-WR-CALDESC:Events for ISOCS
REFRESH-INTERVAL;VALUE=DURATION:PT1H
X-Robots-Tag:noindex
X-PUBLISHED-TTL:PT1H
BEGIN:VTIMEZONE
TZID:Europe/Paris
BEGIN:DAYLIGHT
TZOFFSETFROM:+0100
TZOFFSETTO:+0200
TZNAME:CEST
DTSTART:20210328T010000
END:DAYLIGHT
BEGIN:STANDARD
TZOFFSETFROM:+0200
TZOFFSETTO:+0100
TZNAME:CET
DTSTART:20211031T010000
END:STANDARD
BEGIN:DAYLIGHT
TZOFFSETFROM:+0100
TZOFFSETTO:+0200
TZNAME:CEST
DTSTART:20220327T010000
END:DAYLIGHT
BEGIN:STANDARD
TZOFFSETFROM:+0200
TZOFFSETTO:+0100
TZNAME:CET
DTSTART:20221030T010000
END:STANDARD
BEGIN:DAYLIGHT
TZOFFSETFROM:+0100
TZOFFSETTO:+0200
TZNAME:CEST
DTSTART:20230326T010000
END:DAYLIGHT
BEGIN:STANDARD
TZOFFSETFROM:+0200
TZOFFSETTO:+0100
TZNAME:CET
DTSTART:20231029T010000
END:STANDARD
END:VTIMEZONE
BEGIN:VEVENT
DTSTART;TZID=Europe/Paris:20220529T080000
DTEND;TZID=Europe/Paris:20220601T170000
DTSTAMP:20260424T172903
CREATED:20220320T235801Z
LAST-MODIFIED:20220320T235801Z
UID:4332-1653811200-1654102800@www.olfactionsociety.org
SUMMARY:ISOEN 2022
DESCRIPTION:The International Symposium on Olfaction and Electronic Nose\n\n\n\nMay 29 – June 1\, 2022 – Aveiro\, Portugal\n\n\n\nISOEN 2022:The International Symposium on Olfaction and Electronic Nose (ISOEN) is the world’s premiere technical conference in artificial chemoreception (olfaction and taste). ISOEN 2022 provides a forum for scientists\, engineers and practitioners to share their latest findings\, innovations and products in the area of artificial chemoreception. \n\n\n\nAveiro:ISOEN 2022 will be held at the Aveiro Congress Center\, situated in the old building of the Jerónimo Pereira de Campos ceramic factory\, emblematic of the early XX century industrial architecture of Aveiro. \n\n\n\nFor registration please go to: test.olfactionsociety.org/isoen-2022-registration \n\n\n\n\n\n\n\n\n\n\n\n\n\n\n\n\n\n\n\n\n\n\n\n\n\n\n\n\n\n\n\n\n\n\n\n\n\n\n\n\n\n\n\n\n\n\n\n\n\n\n\n\n\nTopics of interest: \n\n\n\nOdour sampling: headspace analysis\, dynamic sampling\, pre-concentration and storageChemical sensors and biosensors: gas\, liquid\, electrochemical\, opticalSensor systems: electronic noses\, electronic tonguesData analysis: signal processing\, pattern recognition\, chemometricsHealthcare applications of sensors and sensor systemsIndustrial\, environmental and foodstuff applications of sensors and sensor systems.IoT and sensorsRobotic system with chemical sensorsActuators and MEMSOdour and gustatory perception and sent presentationBioengineering: cell-based olfactory sensors\, receptor-based sensors\, bio-inspired algorithms\n\n\n\nImportant deadlines: \n\n\n\nSpecial Session & Tutorials Proposals 20 November 2021Abstract Submission Deadline20 December 2021Acceptance Notification15 March 2022Early Registration Deadline14 April 2022\n\n\n\nConference ChairAlisa Rudnitskaya\, University of Aveiro\, PORTUGAL \n\n\n\nTechnical Program Co-ChairsSantiago Marco\, IBEC\, SPAINAlisa Rudnitskaya\, University of Aveiro\, PORTUGAL \n\n\n\nTreasurerJan Mitrovics\, JLM Innovation GmbH\, GERMANY \n\n\n\nPublicity ChairRadislav A. Potyrailo\, GE Research\, USA \n\n\n\nTutorials ChairSaverio de Vito\, ENEA\, ITALY \n\n\n\nPlenary ChairKrishna Persaud\, The University of Manchester\, UK \n\n\n\nLocal Organizing CommitteeM. Teresa S.R. Gomes\, University of Aveiro\, PORTUGALMarta I.S. Veríssimo\, University of Aveiro\, PORTUGALCatarina Moreirinha\, University of Aveiro\, PORTUGALMariana Raposo\, University of Aveiro\, PORTUGALSílvia Reis\, University of Aveiro\, PORTUGALMaria João Botelho\, IPMA\, PORTUGAL \n\n\n\nFor more information please visit: https://www.isoen2022.org/
URL:https://www.olfactionsociety.org/event/isoen-2022/
CATEGORIES:Conferences
ATTACH;FMTTYPE=:
END:VEVENT
END:VCALENDAR